BEGIN:VCALENDAR
VERSION:2.0
PRODID:-//City of Belle Meade - ECPv6.15.20//NONSGML v1.0//EN
CALSCALE:GREGORIAN
METHOD:PUBLISH
X-ORIGINAL-URL:https://citybellemeade.org
X-WR-CALDESC:Events for City of Belle Meade
REFRESH-INTERVAL;VALUE=DURATION:PT1H
X-Robots-Tag:noindex
X-PUBLISHED-TTL:PT1H
BEGIN:VTIMEZONE
TZID:America/Chicago
BEGIN:DAYLIGHT
TZOFFSETFROM:-0600
TZOFFSETTO:-0500
TZNAME:CDT
DTSTART:20250309T080000
END:DAYLIGHT
BEGIN:STANDARD
TZOFFSETFROM:-0500
TZOFFSETTO:-0600
TZNAME:CST
DTSTART:20251102T070000
END:STANDARD
BEGIN:DAYLIGHT
TZOFFSETFROM:-0600
TZOFFSETTO:-0500
TZNAME:CDT
DTSTART:20260308T080000
END:DAYLIGHT
BEGIN:STANDARD
TZOFFSETFROM:-0500
TZOFFSETTO:-0600
TZNAME:CST
DTSTART:20261101T070000
END:STANDARD
BEGIN:DAYLIGHT
TZOFFSETFROM:-0600
TZOFFSETTO:-0500
TZNAME:CDT
DTSTART:20270314T080000
END:DAYLIGHT
BEGIN:STANDARD
TZOFFSETFROM:-0500
TZOFFSETTO:-0600
TZNAME:CST
DTSTART:20271107T070000
END:STANDARD
END:VTIMEZONE
BEGIN:VEVENT
DTSTART;TZID=America/Chicago:20261013T150000
DTEND;TZID=America/Chicago:20261013T163000
DTSTAMP:20260423T152340
CREATED:20241231T160432Z
LAST-MODIFIED:20241231T160432Z
UID:21301-1791903600-1791909000@citybellemeade.org
SUMMARY:Historic Zoning Commission
DESCRIPTION:
URL:https://citybellemeade.org/event/historic-zoning-commission/2026-10-13/
LOCATION:TN
CATEGORIES:Historic Zoning Commission
END:VEVENT
BEGIN:VEVENT
DTSTART;TZID=America/Chicago:20261013T163000
DTEND;TZID=America/Chicago:20261013T180000
DTSTAMP:20260423T152340
CREATED:20260105T150751Z
LAST-MODIFIED:20260105T150751Z
UID:21314-1791909000-1791914400@citybellemeade.org
SUMMARY:Municipal Planning Commission
DESCRIPTION:
URL:https://citybellemeade.org/event/municipal-planning-commission/2026-10-13/
LOCATION:Beth Reardon Municipal Hall – Belle Meade City Hall\, 4705 Harding Pike\, Nashville\, TN\, 37205\, United States
CATEGORIES:Municipal Planning Commission
END:VEVENT
BEGIN:VEVENT
DTSTART;TZID=America/Chicago:20261014T083000
DTEND;TZID=America/Chicago:20261014T083000
DTSTAMP:20260423T152340
CREATED:20260402T185521Z
LAST-MODIFIED:20260402T185521Z
UID:21503-1791966600-1791966600@citybellemeade.org
SUMMARY:Traffic Court
DESCRIPTION:
URL:https://citybellemeade.org/event/traffic-court-55/
LOCATION:Beth Reardon Municipal Hall – Belle Meade City Hall\, 4705 Harding Pike\, Nashville\, TN\, 37205\, United States
CATEGORIES:Traffic Court
END:VEVENT
BEGIN:VEVENT
DTSTART;TZID=America/Chicago:20261014T140000
DTEND;TZID=America/Chicago:20261014T140000
DTSTAMP:20260423T152340
CREATED:20260320T191208Z
LAST-MODIFIED:20260320T191208Z
UID:21471-1791986400-1791986400@citybellemeade.org
SUMMARY:Board of Commissioners Quarterly Work Session
DESCRIPTION:
URL:https://citybellemeade.org/event/board-of-commissioners-quarterly-work-session-4/
LOCATION:Beth Reardon Municipal Hall – Belle Meade City Hall\, 4705 Harding Pike\, Nashville\, TN\, 37205\, United States
CATEGORIES:Board of Commissioners
END:VEVENT
BEGIN:VEVENT
DTSTART;TZID=America/Chicago:20261014T160000
DTEND;TZID=America/Chicago:20261014T160000
DTSTAMP:20260423T152340
CREATED:20260320T191523Z
LAST-MODIFIED:20260320T191523Z
UID:21473-1791993600-1791993600@citybellemeade.org
SUMMARY:Board of Commissioenrs
DESCRIPTION:
URL:https://citybellemeade.org/event/board-of-commissioenrs/
LOCATION:Beth Reardon Municipal Hall – Belle Meade City Hall\, 4705 Harding Pike\, Nashville\, TN\, 37205\, United States
CATEGORIES:Board of Commissioners
END:VEVENT
BEGIN:VEVENT
DTSTART;TZID=America/Chicago:20261015T083000
DTEND;TZID=America/Chicago:20261015T083000
DTSTAMP:20260423T152340
CREATED:20260402T185633Z
LAST-MODIFIED:20260402T185633Z
UID:21505-1792053000-1792053000@citybellemeade.org
SUMMARY:Traffic Court
DESCRIPTION:
URL:https://citybellemeade.org/event/traffic-court-56/
LOCATION:Beth Reardon Municipal Hall – Belle Meade City Hall\, 4705 Harding Pike\, Nashville\, TN\, 37205\, United States
CATEGORIES:Traffic Court
END:VEVENT
BEGIN:VEVENT
DTSTART;TZID=America/Chicago:20261020T163000
DTEND;TZID=America/Chicago:20261020T163000
DTSTAMP:20260423T152340
CREATED:20210512T160622Z
LAST-MODIFIED:20210512T160622Z
UID:21191-1792513800-1792513800@citybellemeade.org
SUMMARY:Board of Zoning Appeal Meeting at City Hall
DESCRIPTION:
URL:https://citybellemeade.org/event/board-of-zoning-appeal-meeting-at-city-hall-2022-04-19-2022-05-17/2026-10-20/
LOCATION:Beth Reardon Municipal Hall – Belle Meade City Hall\, 4705 Harding Pike\, Nashville\, TN\, 37205\, United States
CATEGORIES:Board of Zoning Appeals
END:VEVENT
END:VCALENDAR