BEGIN:VCALENDAR
VERSION:2.0
PRODID:-//City of Belle Meade - ECPv6.15.20//NONSGML v1.0//EN
CALSCALE:GREGORIAN
METHOD:PUBLISH
X-WR-CALNAME:City of Belle Meade
X-ORIGINAL-URL:https://citybellemeade.org
X-WR-CALDESC:Events for City of Belle Meade
REFRESH-INTERVAL;VALUE=DURATION:PT1H
X-Robots-Tag:noindex
X-PUBLISHED-TTL:PT1H
BEGIN:VTIMEZONE
TZID:America/Chicago
BEGIN:DAYLIGHT
TZOFFSETFROM:-0600
TZOFFSETTO:-0500
TZNAME:CDT
DTSTART:20250309T080000
END:DAYLIGHT
BEGIN:STANDARD
TZOFFSETFROM:-0500
TZOFFSETTO:-0600
TZNAME:CST
DTSTART:20251102T070000
END:STANDARD
BEGIN:DAYLIGHT
TZOFFSETFROM:-0600
TZOFFSETTO:-0500
TZNAME:CDT
DTSTART:20260308T080000
END:DAYLIGHT
BEGIN:STANDARD
TZOFFSETFROM:-0500
TZOFFSETTO:-0600
TZNAME:CST
DTSTART:20261101T070000
END:STANDARD
BEGIN:DAYLIGHT
TZOFFSETFROM:-0600
TZOFFSETTO:-0500
TZNAME:CDT
DTSTART:20270314T080000
END:DAYLIGHT
BEGIN:STANDARD
TZOFFSETFROM:-0500
TZOFFSETTO:-0600
TZNAME:CST
DTSTART:20271107T070000
END:STANDARD
END:VTIMEZONE
BEGIN:VEVENT
DTSTART;TZID=America/Chicago:20260805T083000
DTEND;TZID=America/Chicago:20260805T083000
DTSTAMP:20260423T113403
CREATED:20260205T193648Z
LAST-MODIFIED:20260205T193717Z
UID:21356-1785918600-1785918600@citybellemeade.org
SUMMARY:Traffic Court
DESCRIPTION:
URL:https://citybellemeade.org/event/traffic-court-51/
LOCATION:Beth Reardon Municipal Hall – Belle Meade City Hall\, 4705 Harding Pike\, Nashville\, TN\, 37205\, United States
CATEGORIES:Traffic Court
END:VEVENT
BEGIN:VEVENT
DTSTART;TZID=America/Chicago:20260806T083000
DTEND;TZID=America/Chicago:20260806T083000
DTSTAMP:20260423T113403
CREATED:20260205T193926Z
LAST-MODIFIED:20260205T193926Z
UID:21358-1786005000-1786005000@citybellemeade.org
SUMMARY:Traffic Court
DESCRIPTION:
URL:https://citybellemeade.org/event/traffic-court-52/
LOCATION:Beth Reardon Municipal Hall – Belle Meade City Hall\, 4705 Harding Pike\, Nashville\, TN\, 37205\, United States
CATEGORIES:Traffic Court
END:VEVENT
BEGIN:VEVENT
DTSTART;TZID=America/Chicago:20260811T150000
DTEND;TZID=America/Chicago:20260811T163000
DTSTAMP:20260423T113403
CREATED:20241231T160432Z
LAST-MODIFIED:20241231T160432Z
UID:21299-1786460400-1786465800@citybellemeade.org
SUMMARY:Historic Zoning Commission
DESCRIPTION:
URL:https://citybellemeade.org/event/historic-zoning-commission/2026-08-11/
LOCATION:TN
CATEGORIES:Historic Zoning Commission
END:VEVENT
BEGIN:VEVENT
DTSTART;TZID=America/Chicago:20260811T163000
DTEND;TZID=America/Chicago:20260811T180000
DTSTAMP:20260423T113403
CREATED:20260105T150751Z
LAST-MODIFIED:20260105T150751Z
UID:21312-1786465800-1786471200@citybellemeade.org
SUMMARY:Municipal Planning Commission
DESCRIPTION:
URL:https://citybellemeade.org/event/municipal-planning-commission/2026-08-11/
LOCATION:Beth Reardon Municipal Hall – Belle Meade City Hall\, 4705 Harding Pike\, Nashville\, TN\, 37205\, United States
CATEGORIES:Municipal Planning Commission
END:VEVENT
BEGIN:VEVENT
DTSTART;TZID=America/Chicago:20260818T163000
DTEND;TZID=America/Chicago:20260818T163000
DTSTAMP:20260423T113403
CREATED:20210512T160622Z
LAST-MODIFIED:20210512T160622Z
UID:21189-1787070600-1787070600@citybellemeade.org
SUMMARY:Board of Zoning Appeal Meeting at City Hall
DESCRIPTION:
URL:https://citybellemeade.org/event/board-of-zoning-appeal-meeting-at-city-hall-2022-04-19-2022-05-17/2026-08-18/
LOCATION:Beth Reardon Municipal Hall – Belle Meade City Hall\, 4705 Harding Pike\, Nashville\, TN\, 37205\, United States
CATEGORIES:Board of Zoning Appeals
END:VEVENT
BEGIN:VEVENT
DTSTART;TZID=America/Chicago:20260819T160000
DTEND;TZID=America/Chicago:20260819T160000
DTSTAMP:20260423T113403
CREATED:20260320T190553Z
LAST-MODIFIED:20260320T190553Z
UID:21463-1787155200-1787155200@citybellemeade.org
SUMMARY:Board of Commissioners
DESCRIPTION:
URL:https://citybellemeade.org/event/board-of-commissioners-10/
LOCATION:Beth Reardon Municipal Hall – Belle Meade City Hall\, 4705 Harding Pike\, Nashville\, TN\, 37205\, United States
CATEGORIES:Board of Commissioners
END:VEVENT
END:VCALENDAR