BEGIN:VCALENDAR
VERSION:2.0
PRODID:-//City of Belle Meade - ECPv6.15.20//NONSGML v1.0//EN
CALSCALE:GREGORIAN
METHOD:PUBLISH
X-ORIGINAL-URL:https://citybellemeade.org
X-WR-CALDESC:Events for City of Belle Meade
REFRESH-INTERVAL;VALUE=DURATION:PT1H
X-Robots-Tag:noindex
X-PUBLISHED-TTL:PT1H
BEGIN:VTIMEZONE
TZID:America/Chicago
BEGIN:DAYLIGHT
TZOFFSETFROM:-0600
TZOFFSETTO:-0500
TZNAME:CDT
DTSTART:20230312T080000
END:DAYLIGHT
BEGIN:STANDARD
TZOFFSETFROM:-0500
TZOFFSETTO:-0600
TZNAME:CST
DTSTART:20231105T070000
END:STANDARD
BEGIN:DAYLIGHT
TZOFFSETFROM:-0600
TZOFFSETTO:-0500
TZNAME:CDT
DTSTART:20240310T080000
END:DAYLIGHT
BEGIN:STANDARD
TZOFFSETFROM:-0500
TZOFFSETTO:-0600
TZNAME:CST
DTSTART:20241103T070000
END:STANDARD
BEGIN:DAYLIGHT
TZOFFSETFROM:-0600
TZOFFSETTO:-0500
TZNAME:CDT
DTSTART:20250309T080000
END:DAYLIGHT
BEGIN:STANDARD
TZOFFSETFROM:-0500
TZOFFSETTO:-0600
TZNAME:CST
DTSTART:20251102T070000
END:STANDARD
BEGIN:DAYLIGHT
TZOFFSETFROM:-0600
TZOFFSETTO:-0500
TZNAME:CDT
DTSTART:20260308T080000
END:DAYLIGHT
BEGIN:STANDARD
TZOFFSETFROM:-0500
TZOFFSETTO:-0600
TZNAME:CST
DTSTART:20261101T070000
END:STANDARD
BEGIN:DAYLIGHT
TZOFFSETFROM:-0600
TZOFFSETTO:-0500
TZNAME:CDT
DTSTART:20270314T080000
END:DAYLIGHT
BEGIN:STANDARD
TZOFFSETFROM:-0500
TZOFFSETTO:-0600
TZNAME:CST
DTSTART:20271107T070000
END:STANDARD
END:VTIMEZONE
BEGIN:VEVENT
DTSTART;VALUE=DATE:20260101
DTEND;VALUE=DATE:20260102
DTSTAMP:20260424T104327
CREATED:20230127T162442Z
LAST-MODIFIED:20241231T155838Z
UID:19137-1767225600-1767311999@citybellemeade.org
SUMMARY:New Year's DayCity Offices Closed
DESCRIPTION:
URL:https://citybellemeade.org/event/new-years-daycity-offices-closed/2026-01-01/
LOCATION:TN
CATEGORIES:Holidays
END:VEVENT
BEGIN:VEVENT
DTSTART;VALUE=DATE:20251225
DTEND;VALUE=DATE:20251226
DTSTAMP:20260424T104327
CREATED:20241231T155518Z
LAST-MODIFIED:20241231T155717Z
UID:20378-1766620800-1766707199@citybellemeade.org
SUMMARY:Christmas Day  City Offices Closed
DESCRIPTION:
URL:https://citybellemeade.org/event/christmas-day-holiday/
LOCATION:Belle Meade City Hall\, 4705 HARDING PIKE\, NASHVILLE\, TN\, 37205-2809\, United States
CATEGORIES:Holidays
END:VEVENT
BEGIN:VEVENT
DTSTART;VALUE=DATE:20251224
DTEND;VALUE=DATE:20251225
DTSTAMP:20260424T104327
CREATED:20241231T155445Z
LAST-MODIFIED:20241231T155955Z
UID:20376-1766534400-1766620799@citybellemeade.org
SUMMARY:Christmas Eve  City Offices Closed
DESCRIPTION:
URL:https://citybellemeade.org/event/christmas-eve-offices-closed/
LOCATION:Belle Meade City Hall\, 4705 HARDING PIKE\, NASHVILLE\, TN\, 37205-2809\, United States
CATEGORIES:Holidays
END:VEVENT
BEGIN:VEVENT
DTSTART;VALUE=DATE:20251128
DTEND;VALUE=DATE:20251129
DTSTAMP:20260424T104327
CREATED:20241231T161941Z
LAST-MODIFIED:20241231T161941Z
UID:20430-1764288000-1764374399@citybellemeade.org
SUMMARY:City Offices Closed
DESCRIPTION:
URL:https://citybellemeade.org/event/city-offices-closed/
LOCATION:Belle Meade City Hall\, 4705 HARDING PIKE\, NASHVILLE\, TN\, 37205-2809\, United States
CATEGORIES:Holidays
END:VEVENT
BEGIN:VEVENT
DTSTART;VALUE=DATE:20251127
DTEND;VALUE=DATE:20251128
DTSTAMP:20260424T104327
CREATED:20241231T161859Z
LAST-MODIFIED:20241231T161859Z
UID:20428-1764201600-1764287999@citybellemeade.org
SUMMARY:Thanksgiving Day  City Offices Closed
DESCRIPTION:
URL:https://citybellemeade.org/event/thanksgiving-day-city-offices-closed/
LOCATION:Belle Meade City Hall\, 4705 HARDING PIKE\, NASHVILLE\, TN\, 37205-2809\, United States
CATEGORIES:Holidays
END:VEVENT
BEGIN:VEVENT
DTSTART;VALUE=DATE:20251125
DTEND;VALUE=DATE:20251126
DTSTAMP:20260424T104327
CREATED:20231108T203743Z
LAST-MODIFIED:20231108T203743Z
UID:21148-1764028800-1764115199@citybellemeade.org
SUMMARY:Christmas DayCity Offices Closed
DESCRIPTION:
URL:https://citybellemeade.org/event/christmas-day/2025-11-25/
LOCATION:TN
CATEGORIES:Holidays
END:VEVENT
BEGIN:VEVENT
DTSTART;VALUE=DATE:20250704
DTEND;VALUE=DATE:20250705
DTSTAMP:20260424T104327
CREATED:20241231T161624Z
LAST-MODIFIED:20241231T161624Z
UID:20424-1751587200-1751673599@citybellemeade.org
SUMMARY:Independence Day  City Offices Closed
DESCRIPTION:
URL:https://citybellemeade.org/event/independence-day-city-offices-closed/
LOCATION:Belle Meade City Hall\, 4705 HARDING PIKE\, NASHVILLE\, TN\, 37205-2809\, United States
CATEGORIES:Holidays
END:VEVENT
BEGIN:VEVENT
DTSTART;VALUE=DATE:20250526
DTEND;VALUE=DATE:20250527
DTSTAMP:20260424T104327
CREATED:20241231T161522Z
LAST-MODIFIED:20241231T161522Z
UID:20422-1748217600-1748303999@citybellemeade.org
SUMMARY:Memorial Day  City Offices Closed
DESCRIPTION:
URL:https://citybellemeade.org/event/memorial-day-city-offices-closed/
LOCATION:Belle Meade City Hall\, 4705 HARDING PIKE\, NASHVILLE\, TN\, 37205-2809\, United States
CATEGORIES:Holidays
END:VEVENT
BEGIN:VEVENT
DTSTART;VALUE=DATE:20250418
DTEND;VALUE=DATE:20250419
DTSTAMP:20260424T104327
CREATED:20241231T161337Z
LAST-MODIFIED:20241231T161337Z
UID:20420-1744934400-1745020799@citybellemeade.org
SUMMARY:Good Friday  City Offices Closed
DESCRIPTION:
URL:https://citybellemeade.org/event/good-friday-city-offices-closed/
LOCATION:Belle Meade City Hall\, 4705 HARDING PIKE\, NASHVILLE\, TN\, 37205-2809\, United States
CATEGORIES:Holidays
END:VEVENT
BEGIN:VEVENT
DTSTART;VALUE=DATE:20250217
DTEND;VALUE=DATE:20250218
DTSTAMP:20260424T104327
CREATED:20241231T160600Z
LAST-MODIFIED:20241231T160600Z
UID:20418-1739750400-1739836799@citybellemeade.org
SUMMARY:President's Day  City Offices Closed
DESCRIPTION:
URL:https://citybellemeade.org/event/presidents-day-city-offices-closed/
LOCATION:Belle Meade City Hall\, 4705 HARDING PIKE\, NASHVILLE\, TN\, 37205-2809\, United States
CATEGORIES:Holidays
END:VEVENT
BEGIN:VEVENT
DTSTART;VALUE=DATE:20250101
DTEND;VALUE=DATE:20250102
DTSTAMP:20260424T104327
CREATED:20230127T162442Z
LAST-MODIFIED:20241231T155838Z
UID:17598-1735689600-1735775999@citybellemeade.org
SUMMARY:New Year's DayCity Offices Closed
DESCRIPTION:
URL:https://citybellemeade.org/event/new-years-daycity-offices-closed/2025-01-01/
LOCATION:TN
CATEGORIES:Holidays
END:VEVENT
BEGIN:VEVENT
DTSTART;VALUE=DATE:20241225
DTEND;VALUE=DATE:20241226
DTSTAMP:20260424T104327
CREATED:20231108T203743Z
LAST-MODIFIED:20231108T204046Z
UID:18867-1735084800-1735171199@citybellemeade.org
SUMMARY:Christmas DayCity Offices Closed
DESCRIPTION:
URL:https://citybellemeade.org/event/christmas-day/2024-12-25/
LOCATION:TN
CATEGORIES:Holidays
END:VEVENT
BEGIN:VEVENT
DTSTART;VALUE=DATE:20241224
DTEND;VALUE=DATE:20241225
DTSTAMP:20260424T104327
CREATED:20231108T203618Z
LAST-MODIFIED:20231108T203618Z
UID:18865-1734998400-1735084799@citybellemeade.org
SUMMARY:Christmas EveCity Offices Closed
DESCRIPTION:
URL:https://citybellemeade.org/event/christmas-evecity-offices-closed/
LOCATION:TN
CATEGORIES:Holidays
END:VEVENT
BEGIN:VEVENT
DTSTART;VALUE=DATE:20240101
DTEND;VALUE=DATE:20240102
DTSTAMP:20260424T104327
CREATED:20230127T162442Z
LAST-MODIFIED:20241231T155838Z
UID:17596-1704067200-1704153599@citybellemeade.org
SUMMARY:New Year's DayCity Offices Closed
DESCRIPTION:
URL:https://citybellemeade.org/event/new-years-daycity-offices-closed/2024-01-01/
LOCATION:TN
CATEGORIES:Holidays
END:VEVENT
END:VCALENDAR