BEGIN:VCALENDAR
VERSION:2.0
PRODID:-//City of Belle Meade - ECPv6.15.20//NONSGML v1.0//EN
CALSCALE:GREGORIAN
METHOD:PUBLISH
X-ORIGINAL-URL:https://citybellemeade.org
X-WR-CALDESC:Events for City of Belle Meade
REFRESH-INTERVAL;VALUE=DURATION:PT1H
X-Robots-Tag:noindex
X-PUBLISHED-TTL:PT1H
BEGIN:VTIMEZONE
TZID:America/Chicago
BEGIN:DAYLIGHT
TZOFFSETFROM:-0600
TZOFFSETTO:-0500
TZNAME:CDT
DTSTART:20230312T080000
END:DAYLIGHT
BEGIN:STANDARD
TZOFFSETFROM:-0500
TZOFFSETTO:-0600
TZNAME:CST
DTSTART:20231105T070000
END:STANDARD
BEGIN:DAYLIGHT
TZOFFSETFROM:-0600
TZOFFSETTO:-0500
TZNAME:CDT
DTSTART:20240310T080000
END:DAYLIGHT
BEGIN:STANDARD
TZOFFSETFROM:-0500
TZOFFSETTO:-0600
TZNAME:CST
DTSTART:20241103T070000
END:STANDARD
BEGIN:DAYLIGHT
TZOFFSETFROM:-0600
TZOFFSETTO:-0500
TZNAME:CDT
DTSTART:20250309T080000
END:DAYLIGHT
BEGIN:STANDARD
TZOFFSETFROM:-0500
TZOFFSETTO:-0600
TZNAME:CST
DTSTART:20251102T070000
END:STANDARD
END:VTIMEZONE
BEGIN:VEVENT
DTSTART;TZID=America/Chicago:20241114T083000
DTEND;TZID=America/Chicago:20241114T103000
DTSTAMP:20260420T120016
CREATED:20231110T212036Z
LAST-MODIFIED:20231110T212036Z
UID:18951-1731573000-1731580200@citybellemeade.org
SUMMARY:Traffic Court
DESCRIPTION:
URL:https://citybellemeade.org/event/traffic-court-21/
LOCATION:Beth Reardon Municipal Hall – Belle Meade City Hall\, 4705 Harding Pike\, Nashville\, TN\, 37205\, United States
CATEGORIES:City Court
END:VEVENT
BEGIN:VEVENT
DTSTART;TZID=America/Chicago:20241113T083000
DTEND;TZID=America/Chicago:20241113T103000
DTSTAMP:20260420T120016
CREATED:20231110T211941Z
LAST-MODIFIED:20231110T211941Z
UID:18949-1731486600-1731493800@citybellemeade.org
SUMMARY:Traffic Court
DESCRIPTION:
URL:https://citybellemeade.org/event/traffic-court-20/
LOCATION:Beth Reardon Municipal Hall – Belle Meade City Hall\, 4705 Harding Pike\, Nashville\, TN\, 37205\, United States
CATEGORIES:City Court
END:VEVENT
BEGIN:VEVENT
DTSTART;TZID=America/Chicago:20241010T083000
DTEND;TZID=America/Chicago:20241010T103000
DTSTAMP:20260420T120016
CREATED:20231110T211853Z
LAST-MODIFIED:20231110T211853Z
UID:18947-1728549000-1728556200@citybellemeade.org
SUMMARY:Traffic Court
DESCRIPTION:
URL:https://citybellemeade.org/event/traffic-court-19/
LOCATION:Beth Reardon Municipal Hall – Belle Meade City Hall\, 4705 Harding Pike\, Nashville\, TN\, 37205\, United States
CATEGORIES:City Court
END:VEVENT
BEGIN:VEVENT
DTSTART;TZID=America/Chicago:20241009T083000
DTEND;TZID=America/Chicago:20241009T103000
DTSTAMP:20260420T120016
CREATED:20231110T205800Z
LAST-MODIFIED:20231110T205800Z
UID:18945-1728462600-1728469800@citybellemeade.org
SUMMARY:Traffic Court
DESCRIPTION:
URL:https://citybellemeade.org/event/traffic-court-18/
LOCATION:Beth Reardon Municipal Hall – Belle Meade City Hall\, 4705 Harding Pike\, Nashville\, TN\, 37205\, United States
CATEGORIES:City Court
END:VEVENT
BEGIN:VEVENT
DTSTART;TZID=America/Chicago:20240905T083000
DTEND;TZID=America/Chicago:20240905T103000
DTSTAMP:20260420T120016
CREATED:20231110T204734Z
LAST-MODIFIED:20240129T151116Z
UID:18943-1725525000-1725532200@citybellemeade.org
SUMMARY:Traffic Court
DESCRIPTION:
URL:https://citybellemeade.org/event/traffic-court-17/
LOCATION:Beth Reardon Municipal Hall – Belle Meade City Hall\, 4705 Harding Pike\, Nashville\, TN\, 37205\, United States
CATEGORIES:City Court
END:VEVENT
BEGIN:VEVENT
DTSTART;TZID=America/Chicago:20240904T083000
DTEND;TZID=America/Chicago:20240904T103000
DTSTAMP:20260420T120016
CREATED:20231110T204300Z
LAST-MODIFIED:20240129T151026Z
UID:18940-1725438600-1725445800@citybellemeade.org
SUMMARY:Traffic Court
DESCRIPTION:
URL:https://citybellemeade.org/event/traffic-court-16/
LOCATION:Beth Reardon Municipal Hall – Belle Meade City Hall\, 4705 Harding Pike\, Nashville\, TN\, 37205\, United States
CATEGORIES:City Court
END:VEVENT
BEGIN:VEVENT
DTSTART;TZID=America/Chicago:20240815T083000
DTEND;TZID=America/Chicago:20240815T103000
DTSTAMP:20260420T120016
CREATED:20231110T204128Z
LAST-MODIFIED:20231110T204423Z
UID:18938-1723710600-1723717800@citybellemeade.org
SUMMARY:Traffic Court
DESCRIPTION:
URL:https://citybellemeade.org/event/traffic-court-15/
LOCATION:Beth Reardon Municipal Hall – Belle Meade City Hall\, 4705 Harding Pike\, Nashville\, TN\, 37205\, United States
CATEGORIES:City Court
END:VEVENT
BEGIN:VEVENT
DTSTART;TZID=America/Chicago:20240814T083000
DTEND;TZID=America/Chicago:20240814T103000
DTSTAMP:20260420T120016
CREATED:20231110T204101Z
LAST-MODIFIED:20231110T204653Z
UID:18936-1723624200-1723631400@citybellemeade.org
SUMMARY:Traffic Court
DESCRIPTION:
URL:https://citybellemeade.org/event/traffic-court-14/
LOCATION:Beth Reardon Municipal Hall – Belle Meade City Hall\, 4705 Harding Pike\, Nashville\, TN\, 37205\, United States
CATEGORIES:City Court
END:VEVENT
BEGIN:VEVENT
DTSTART;TZID=America/Chicago:20240711T083000
DTEND;TZID=America/Chicago:20240711T103000
DTSTAMP:20260420T120016
CREATED:20231110T203956Z
LAST-MODIFIED:20231110T204017Z
UID:18934-1720686600-1720693800@citybellemeade.org
SUMMARY:Traffic Court
DESCRIPTION:
URL:https://citybellemeade.org/event/traffic-court-13/
LOCATION:Beth Reardon Municipal Hall – Belle Meade City Hall\, 4705 Harding Pike\, Nashville\, TN\, 37205\, United States
CATEGORIES:City Court
END:VEVENT
BEGIN:VEVENT
DTSTART;TZID=America/Chicago:20240710T083000
DTEND;TZID=America/Chicago:20240710T103000
DTSTAMP:20260420T120016
CREATED:20231110T203913Z
LAST-MODIFIED:20231110T204613Z
UID:18932-1720600200-1720607400@citybellemeade.org
SUMMARY:Traffic Court
DESCRIPTION:
URL:https://citybellemeade.org/event/traffic-court-12/
LOCATION:Beth Reardon Municipal Hall – Belle Meade City Hall\, 4705 Harding Pike\, Nashville\, TN\, 37205\, United States
CATEGORIES:City Court
END:VEVENT
END:VCALENDAR